BEGIN:VCALENDAR
VERSION:2.0
PRODID:spatie/icalendar-generator
DESCRIPTION:Events from The Queer Big Apple Corps
X-WR-CALDESC:Events from The Queer Big Apple Corps
REFRESH-INTERVAL;VALUE=DURATION:PT1440M
X-PUBLISHED-TTL:PT1440M
BEGIN:VTIMEZONE
TZID:Etc/GMT+5
BEGIN:STANDARD
DTSTART:20250723T150000Z
TZOFFSETFROM:-0500
TZOFFSETTO:-0500
END:STANDARD
END:VTIMEZONE
BEGIN:VTIMEZONE
TZID:UTC
BEGIN:STANDARD
DTSTART:20250729T153149Z
TZOFFSETFROM:+0000
TZOFFSETTO:+0000
END:STANDARD
END:VTIMEZONE
BEGIN:VEVENT
UID:131-86
DTSTAMP:20260425T153149Z
SUMMARY:QBAC Symphonic Band - Set Your Heart Ablaze!
LOCATION:Symphony Space 2537 Broadway at 95th St. K48 New York New York 100
 25
ORGANIZER;CN=Jason Cannon:MAILTO:jcannon@lgbac.org
DTSTART;TZID=Etc/GMT+5:20260419T150000
DTEND;TZID=Etc/GMT+5:20260419T163000
X-ALT-DESC;FMTTYPE=TEXT/HTML:Click here for tickets
CATEGORIES:General
URL;VALUE=URI:https://lgbacnew.azurewebsites.net/mc-events/qbac-symphonic-b
 and-set-your-heart-ablaze-2/?mc_id=131
END:VEVENT
END:VCALENDAR